BEGIN:VCALENDAR
VERSION:2.0
PRODID:-//Edgewall Software//NONSGML Trac 1.2//EN
METHOD:PUBLISH
X-WR-CALNAME:LeonardoXC [leonardo.pgxc.pl] - Roadmap
X-WR-CALDESC:Trac for Polish LeonardoXC instance available at leonardo.pgxc
 .pl
X-WR-TIMEZONE:Europe/Warsaw
BEGIN:VEVENT
UID:</milestone/5.0.55@trac.pgxc.pl>
DTSTAMP:20240330T230000Z
DTSTART;VALUE=DATE:20240331
SUMMARY:Milestone 5.0.55
URL:http://trac.pgxc.pl/milestone/5.0.55
END:VEVENT
END:VCALENDAR
